BEGIN:VCALENDAR
VERSION:2.0
PRODID:-//Bon Secours Retreat &amp; Conference Center - ECPv6.15.11//NONSGML v1.0//EN
CALSCALE:GREGORIAN
METHOD:PUBLISH
X-ORIGINAL-URL:https://bonsecoursrcc.org
X-WR-CALDESC:Events for Bon Secours Retreat &amp; Conference Center
REFRESH-INTERVAL;VALUE=DURATION:PT1H
X-Robots-Tag:noindex
X-PUBLISHED-TTL:PT1H
BEGIN:VTIMEZONE
TZID:America/New_York
BEGIN:DAYLIGHT
TZOFFSETFROM:-0500
TZOFFSETTO:-0400
TZNAME:EDT
DTSTART:20250309T070000
END:DAYLIGHT
BEGIN:STANDARD
TZOFFSETFROM:-0400
TZOFFSETTO:-0500
TZNAME:EST
DTSTART:20251102T060000
END:STANDARD
BEGIN:DAYLIGHT
TZOFFSETFROM:-0500
TZOFFSETTO:-0400
TZNAME:EDT
DTSTART:20260308T070000
END:DAYLIGHT
BEGIN:STANDARD
TZOFFSETFROM:-0400
TZOFFSETTO:-0500
TZNAME:EST
DTSTART:20261101T060000
END:STANDARD
BEGIN:DAYLIGHT
TZOFFSETFROM:-0500
TZOFFSETTO:-0400
TZNAME:EDT
DTSTART:20270314T070000
END:DAYLIGHT
BEGIN:STANDARD
TZOFFSETFROM:-0400
TZOFFSETTO:-0500
TZNAME:EST
DTSTART:20271107T060000
END:STANDARD
END:VTIMEZONE
BEGIN:VEVENT
DTSTART;TZID=America/New_York:20260417T093000
DTEND;TZID=America/New_York:20260417T160000
DTSTAMP:20260425T162023
CREATED:20250924T155405Z
LAST-MODIFIED:20260413T122826Z
UID:11761-1776418200-1776441600@bonsecoursrcc.org
SUMMARY:The Widow's Might - A Retreat Day for Widows
DESCRIPTION:Finding Strength for the Journey \nCome experience time away from the wilderness of widowhood and seek solace at a retreat that has been designed with you in mind. This retreat will aid you and encourage you to look forward and upward as you travel this widow’s walk and remind you that you are not alone. Gain new insights about how God made you to survive and thrive through reflection\, self-assessment\, and interaction with women who have experienced similar loss — and with a God who has the power to renew your strength\, heal your broken heart\, and give you hope for tomorrow. Lunch is included. Guided by Rev. Terrye Moore. \n[Want to extend your retreat experience? With at least 48 hours’ notice (and subject to availability)\, Bon Secours offers “private retreats” with lodging and meals. Register for two back-to-back retreats and add an overnight stay as a private retreatant for the night between. Call the Welcome Center at 410-442-3120 to inquire about booking a private retreat.] \n Rev. Terrye Moore’s life and ministry are anchored in the divine calling of Isaiah 49:1-6: to be a servant of the Lord and carry God’s salvation “to the ends of the earth.” With a heart for people and a passion for purpose\, she has spent decades building ministries that uplift\, empower\, and transform lives. She is a mother and grandmother who describes herself as a “remarried widow.” A proud graduate of Tuskegee University (Class of 1981)\, Rev. Moore was ordained in 2005 and quickly became a driving force in establishing impactful ministries for men\, women\, and youth. In 2011\, she was consecrated to pastoral ministry and installed as Assistant Pastor. Soon after\, she took a leap of faith — leaving behind a successful career in Information Technology to fully dedicate her life to God’s work. In 2012\, Rev. Moore founded The Virtuous Woman’s Institute\, a God-given vision to minister to the “total woman”— spirit\, soul\, and body. Her commitment to community collaboration led to the formation of the Northwest Faith-Based Community Partnership in 2013\, a united effort among Baltimore congregations to bring healing and hope to the city. She deepened her theological foundation with a Master of Arts in Church Ministries from the Ecumenical Institute of St. Mary’s Seminary & University in 2014. In 2017\, she was installed as Senior Pastor of New Solid Rock Fellowship Church\, leading the congregation with boldness\, compassion\, and prophetic insight. Rev. Moore’s influence has not gone unnoticed. In 2020\, she received an Honorary Doctor of Divinity from St. Thomas Christian University. In 2021\, she was honored as one of “The Guardians of Baltimore\,” a powerful photo documentary celebrating unsung female leaders who have been pillars of strength in their communities. Most recently\, in 2023\, she was ordained to the Office of Prophet through Jackie Miller Ministries. Rev. Terrye Moore continues to serve faithfully — equipping the saints\, engaging the community\, and extending God’s love with unwavering conviction.                                                           
URL:https://bonsecoursrcc.org/event/the-widows-might-a-retreat-day-for-widows/
LOCATION:MD
CATEGORIES:Daytime,Just Added
ATTACH;FMTTYPE=image/jpeg:https://bonsecoursrcc.org/wp-content/uploads/sites/11/2021/09/rose-and-candle-e1631027261255.jpg
END:VEVENT
BEGIN:VEVENT
DTSTART;TZID=America/New_York:20260417T093000
DTEND;TZID=America/New_York:20260417T160000
DTSTAMP:20260425T162023
CREATED:20250924T160152Z
LAST-MODIFIED:20260416T120218Z
UID:11766-1776418200-1776441600@bonsecoursrcc.org
SUMMARY:Making Key Changes
DESCRIPTION:PLEASE NOTE: There is a NEW DATE for this retreat. Making Key Changes will be held on FRIDAY\, APRIL 17.\nMentorship & Motivation UNLOCKED! \nChange can be challenging — but it’s within reach! In this empowering retreat day\, participants will reflect on their personal journeys\, identify the key people in their stories\, and explore how each one contributes to their growth. Together\, we’ll define what meaningful change looks like and how to take actionable steps toward it. Through a creative and compelling lens\, we’ll explore key changes that help beat burnout\, boost confidence\, build effective routines\, and align a shared vision. Participants will be guided to envision the next chapter of their evolving story and uncover the changes that can unlock their fullest potential — both personally and professionally — in partnership with those they love\, serve\, and lead. Lunch is included. Guided by Dr. Lori Schwartz Reichl. \nDr. Lori Schwartz Reichl is the visionary thought leader behind Making Key Changes\, LLC\, a consultancy dedicated to mentorship and motivation\, and the founder of The Confidence Camp\, a summer program empowering youth. As an accomplished author\, educator\, podcaster\, and former public school music teacher and band director (2001–2015)\, Lori has always centered her work on transformation — through music\, leadership\, and human connection. Today\, she leads a “global classroom\,” guiding organizations\, teams\, and individuals to unlock their greatest potential by making key changes that help them grow alongside those they love\, serve\, or lead. Lori is a sought-after speaker and consultant who has delivered hundreds of learning sessions and keynote addresses across the nation. She hosts the Making Key Changes podcast and produces its companion newsletter\, offering weekly actionable insights across multiple media platforms. Lori lives in Maryland with her husband and their two active children. Learn more at MakingKeyChanges.com.
URL:https://bonsecoursrcc.org/event/making-key-changes/
LOCATION:MD
CATEGORIES:Daytime,Just Added
ATTACH;FMTTYPE=image/jpeg:https://bonsecoursrcc.org/wp-content/uploads/sites/11/2023/04/checklist-g5b2624ca4_640-e1682000235596.jpg
END:VEVENT
END:VCALENDAR