BEGIN:VCALENDAR
VERSION:2.0
PRODID:-//Bon Secours Retreat &amp; Conference Center - ECPv6.15.11//NONSGML v1.0//EN
CALSCALE:GREGORIAN
METHOD:PUBLISH
X-ORIGINAL-URL:https://bonsecoursrcc.org
X-WR-CALDESC:Events for Bon Secours Retreat &amp; Conference Center
REFRESH-INTERVAL;VALUE=DURATION:PT1H
X-Robots-Tag:noindex
X-PUBLISHED-TTL:PT1H
BEGIN:VTIMEZONE
TZID:America/New_York
BEGIN:DAYLIGHT
TZOFFSETFROM:-0500
TZOFFSETTO:-0400
TZNAME:EDT
DTSTART:20250309T070000
END:DAYLIGHT
BEGIN:STANDARD
TZOFFSETFROM:-0400
TZOFFSETTO:-0500
TZNAME:EST
DTSTART:20251102T060000
END:STANDARD
BEGIN:DAYLIGHT
TZOFFSETFROM:-0500
TZOFFSETTO:-0400
TZNAME:EDT
DTSTART:20260308T070000
END:DAYLIGHT
BEGIN:STANDARD
TZOFFSETFROM:-0400
TZOFFSETTO:-0500
TZNAME:EST
DTSTART:20261101T060000
END:STANDARD
BEGIN:DAYLIGHT
TZOFFSETFROM:-0500
TZOFFSETTO:-0400
TZNAME:EDT
DTSTART:20270314T070000
END:DAYLIGHT
BEGIN:STANDARD
TZOFFSETFROM:-0400
TZOFFSETTO:-0500
TZNAME:EST
DTSTART:20271107T060000
END:STANDARD
END:VTIMEZONE
BEGIN:VEVENT
DTSTART;TZID=America/New_York:20260425T093000
DTEND;TZID=America/New_York:20260425T160000
DTSTAMP:20260425T132205
CREATED:20250924T162738Z
LAST-MODIFIED:20260424T122223Z
UID:11782-1777109400-1777132800@bonsecoursrcc.org
SUMMARY:Earth Awareness
DESCRIPTION:Deepening Connections\, Weaving Reciprocity \n“The divine communicates to us primarily through the language of the natural world. Not to hear the natural world is not to hear the divine.” ~Thomas Berry \nIn this week of Earth Day celebrations\, we’re invited to remember and reweave ever-deeper\, sacred connections to the living world around us. Our souls long to reclaim full communion with all life\, to re-establish rich relationships too-often hidden beneath cultural expectations\, distractions\, and chaotic times. \nAs we open to deepening connections to the land and lives around us — our kith and kin — we also open to beauty\, joy\, wisdom\, and gratitude. And within us awakens a sense of loving generosity toward those who have given so much. We see that we live within an ecosystem\, participate in a cycle of reciprocity\, and are called to support mutual well-being. \nJoin us on this day-long retreat to slow our busy minds\, tune our senses to the more than human life around us\, and remember that all are held within a living\, sacred web. Our day will include opportunities for shared conversation\, contemplative silence\, and wandering the paths outdoors. Your guide will offer contemplative practices to deepen your spiritual practice and encourage connecting to the beauty and wisdom of the sacred community in which we live. Lunch is included. Guided by Leah Rampy. \nLeah Rampy\, PhD is a writer\, speaker\, and experienced retreat leader who weaves ecology\, spirituality\, personal stories\, and practices to help others deepen their relationship to the natural world. She authored the award-winning Earth & Soul: Reconnecting Amid Climate Chaos\, co-authored with Beth Norcross Discovering the Spiritual Wisdom of Trees\, and is a frequent speaker on spiritual ecology and leadership in these uncertain times. Leah is the founder and leader of Church of the Wild Two Rivers that meets regularly to deepen spirituality through time in the natural world. She has led over a dozen pilgrimages to sacred places in the US and internationally for the Shalem Institute for Spiritual Formation\, where she previously served as the Executive Director and continues to serve as an adjunct staff member. Her essays on living more fully connected to Earth in these uncertain times appear weekly on Substack in Reweaving Earth & Soul.
URL:https://bonsecoursrcc.org/event/earth-awareness/
LOCATION:MD
CATEGORIES:Daytime,Just Added,Nature
ATTACH;FMTTYPE=image/jpeg:https://bonsecoursrcc.org/wp-content/uploads/sites/11/2019/09/hands-holding-globe.jpg
END:VEVENT
BEGIN:VEVENT
DTSTART;TZID=America/New_York:20260427T100000
DTEND;TZID=America/New_York:20260427T120000
DTSTAMP:20260425T132205
CREATED:20250924T170021Z
LAST-MODIFIED:20260420T165155Z
UID:11788-1777284000-1777291200@bonsecoursrcc.org
SUMMARY:MORNING Saints Workshop
DESCRIPTION:We’re so sorry\, but we did not have enough registrations to hold the Saints Workshop.\nExplore our website for other morning and afternoon workshops offered on this same date.\n 
URL:https://bonsecoursrcc.org/event/morning-saints-workshop-2/
LOCATION:MD
CATEGORIES:Daytime,Just Added
ATTACH;FMTTYPE=image/jpeg:https://bonsecoursrcc.org/wp-content/uploads/sites/11/2022/07/Jesus-and-Mary-Magdalene-e1658514518220.jpg
END:VEVENT
BEGIN:VEVENT
DTSTART;TZID=America/New_York:20260427T100000
DTEND;TZID=America/New_York:20260427T120000
DTSTAMP:20260425T132205
CREATED:20250924T171223Z
LAST-MODIFIED:20260424T131742Z
UID:11792-1777284000-1777291200@bonsecoursrcc.org
SUMMARY:MORNING Creative Workshop
DESCRIPTION:Art Hearts \nThe word\, “encourage” is a heart word. It is rooted in the Latin word for heart and means “to make strong\, to hearten\, to inspire\, to fill with hope.” Art Hearts are heart shaped mini-messages of encouragement\, love\, and light. In this workshop\, we will begin our creative process with a short meditation to connect with our own beautiful hearts and then use paint\, stamping\, stenciling\, collage\, and mark-making to transform blank watercolor paper into 8-10 unique messages\, perfect to inspire yourself or give as small gifts. All supplies included. No art experience needed. \nNote: The same program will be offered in the Morning Session and Afternoon Session as part of this Weekday Workshop event. When registering\, be sure to select/indicate your preferred time slot. This registration page is for the Morning Session. \nExplore our website for other morning and afternoon workshops offered on this same date.\nMichelle Lisenbee\, RN\, BSN\, HNB-BC\, LMT is a Holistic Registered Nurse\, a Board-Certified Licensed Massage Therapist\, and mixed media collage artist from Savage\, Maryland. She received her bachelor’s degree in nursing from George Mason University\, her massage training at the Baltimore School of Massage\, and her Board Certification from the American Holistic Nurses Association. Her training has included various bodywork and holistic therapies over the years. Michelle is also a self-taught mixed media artist who believes that connection is where healing happens. Exploring ways to cultivate space for connection both in her own life and the lives of others is her calling\, and she is currently developing her own healing arts practice.
URL:https://bonsecoursrcc.org/event/morning-creative-workshop-2/
LOCATION:MD
CATEGORIES:Daytime,Just Added
ATTACH;FMTTYPE=image/jpeg:https://bonsecoursrcc.org/wp-content/uploads/sites/11/2025/09/IMG_0734-scaled.jpg
END:VEVENT
BEGIN:VEVENT
DTSTART;TZID=America/New_York:20260427T100000
DTEND;TZID=America/New_York:20260427T120000
DTSTAMP:20260425T132205
CREATED:20250924T171934Z
LAST-MODIFIED:20260424T131809Z
UID:11797-1777284000-1777291200@bonsecoursrcc.org
SUMMARY:MORNING Yoga Workshop
DESCRIPTION:Restorative Yoga and Sound Healing \nThis restorative yoga and sound healing workshop invites participants of all ages and abilities to slow down\, release tension\, and reconnect with their bodies and minds. Using gentle\, supported poses\, soothing sound vibrations\, and mindful breathwork\, the practice promotes relaxation\, stress reduction\, and emotional balance. Participants will experience restorative yoga stretches that calm the nervous system\, vibrational sound healing with crystal bowls\, chimes\, and drums to deepen focus and serenity\, and simple breathwork and mindfulness exercises to cultivate presence and inner peace. No prior yoga experience is required. Bring a yoga mat and props such as blankets or pillows to support comfort and alignment\, ensuring you can fully rest and receive the benefits of the practice. Please dress comfortably and come with an open mind. \nNote: The same program will be offered in the Morning Session and Afternoon Session as part of this Weekday Workshop event. When registering\, be sure to select/indicate your preferred time slot. This registration page is for the Morning Session. \nExplore our website for other morning and afternoon workshops offered on this same date.\nTeara Booker\, MPH\, CD\, E-RYT 300 is a seasoned wellness practitioner and maternal health expert with over 20 years of experience in public and maternal health. She holds degrees in health\, dispute resolution\, and behavioral management and is extensively trained and certified in a variety of movement and restorative practices. Teara has dedicated her career to supporting individuals and communities through education\, empowerment\, and holistic wellness\, blending her deep understanding of health with evidence-based practices and intuitive guidance. A passionate interdisciplinary educator\, Teara is trained in Ashtanga\, Yin\, Vinyasa\, Restorative Yoga\, and Yoga Nidra\, creating workshops that cultivate mindfulness\, healing\, and self-awareness. Her approach integrates movement\, meditation\, and somatic practices to help participants connect with their bodies\, release tension\, and nurture overall well-being. Through her workshops\, Teara inspires individuals to embrace balance\, cultivate resilience\, and harness their inner strength for lasting wellness.
URL:https://bonsecoursrcc.org/event/morning-yoga-workshop-2/
LOCATION:MD
CATEGORIES:Daytime,Just Added
ATTACH;FMTTYPE=image/png:https://bonsecoursrcc.org/wp-content/uploads/sites/11/2025/03/8.png
END:VEVENT
BEGIN:VEVENT
DTSTART;TZID=America/New_York:20260427T120000
DTEND;TZID=America/New_York:20260427T130000
DTSTAMP:20260425T132205
CREATED:20250924T172703Z
LAST-MODIFIED:20260421T132501Z
UID:11803-1777291200-1777294800@bonsecoursrcc.org
SUMMARY:Lunch at Bon Secours on April 27
DESCRIPTION:Meal Ticket for Lunch in the Dining Room \nEnjoy a self-serve\, buffet lunch in our Dining Room. Your meal includes the entree of the day\, salad bar\, dessert\, and beverage. \nPlease pick up your meal ticket at the front desk when you check-in. \nLunch is served in the Dining Room on the first floor from 12pm-1pm. Your meal ticket is only valid on April 27\, 2026. \nWe’re sorry\, but meal tickets are not refundable. \nRegistrations for meal tickets will be accepted until noon on 4/20/26. \nExplore our website for various morning and afternoon workshops offered on this same date.
URL:https://bonsecoursrcc.org/event/lunch-at-bon-secours-on-april-27/
LOCATION:MD
CATEGORIES:Daytime,Just Added
ATTACH;FMTTYPE=image/png:https://bonsecoursrcc.org/wp-content/uploads/sites/11/2025/03/11.png
END:VEVENT
BEGIN:VEVENT
DTSTART;TZID=America/New_York:20260427T133000
DTEND;TZID=America/New_York:20260427T153000
DTSTAMP:20260425T132205
CREATED:20250924T170208Z
LAST-MODIFIED:20260420T165515Z
UID:11790-1777296600-1777303800@bonsecoursrcc.org
SUMMARY:AFTERNOON Saints Workshop
DESCRIPTION:We’re so sorry\, but we did not have enough registrations to hold the Saints Workshop.\nExplore our website for other morning and afternoon workshops offered on this same date.
URL:https://bonsecoursrcc.org/event/afternoon-saints-workshop-2/
LOCATION:MD
CATEGORIES:Daytime,Just Added
ATTACH;FMTTYPE=image/jpeg:https://bonsecoursrcc.org/wp-content/uploads/sites/11/2022/07/Jesus-and-Mary-Magdalene-e1658514518220.jpg
END:VEVENT
BEGIN:VEVENT
DTSTART;TZID=America/New_York:20260427T133000
DTEND;TZID=America/New_York:20260427T153000
DTSTAMP:20260425T132205
CREATED:20250924T171423Z
LAST-MODIFIED:20260420T134212Z
UID:11795-1777296600-1777303800@bonsecoursrcc.org
SUMMARY:AFTERNOON Creative Workshop
DESCRIPTION:We’re so sorry\, but we did not have enough registrations to hold the Afternoon Creative Workshop. We hope you’ll consider joining the Morning Creative Workshop instead. Thank you!\nArt Hearts \nThe word\, “encourage” is a heart word. It is rooted in the Latin word for heart and means “to make strong\, to hearten\, to inspire\, to fill with hope.” Art Hearts are heart shaped mini-messages of encouragement\, love\, and light. In this workshop\, we will begin our creative process with a short meditation to connect with our own beautiful hearts and then use paint\, stamping\, stenciling\, collage\, and mark-making to transform blank watercolor paper into 8-10 unique messages\, perfect to inspire yourself or give as small gifts. All supplies included. No art experience needed. \nExplore our website for other morning and afternoon workshops offered on this same date.\nMichelle Lisenbee\, RN\, BSN\, HNB-BC\, LMT is a Holistic Registered Nurse\, a Board-Certified Licensed Massage Therapist\, and mixed media collage artist from Savage\, Maryland. She received her bachelor’s degree in nursing from George Mason University\, her massage training at the Baltimore School of Massage\, and her Board Certification from the American Holistic Nurses Association. Her training has included various bodywork and holistic therapies over the years. Michelle is also a self-taught mixed media artist who believes that connection is where healing happens. Exploring ways to cultivate space for connection both in her own life and the lives of others is her calling\, and she is currently developing her own healing arts practice.
URL:https://bonsecoursrcc.org/event/afternoon-creative-workshop-2/
LOCATION:MD
CATEGORIES:Daytime,Just Added
ATTACH;FMTTYPE=image/jpeg:https://bonsecoursrcc.org/wp-content/uploads/sites/11/2025/09/IMG_0734-scaled.jpg
END:VEVENT
BEGIN:VEVENT
DTSTART;TZID=America/New_York:20260427T133000
DTEND;TZID=America/New_York:20260427T153000
DTSTAMP:20260425T132205
CREATED:20250924T172312Z
LAST-MODIFIED:20260424T131831Z
UID:11801-1777296600-1777303800@bonsecoursrcc.org
SUMMARY:AFTERNOON Yoga Workshop
DESCRIPTION:Restorative Yoga and Sound Healing \nThis restorative yoga and sound healing workshop invites participants of all ages and abilities to slow down\, release tension\, and reconnect with their bodies and minds. Using gentle\, supported poses\, soothing sound vibrations\, and mindful breathwork\, the practice promotes relaxation\, stress reduction\, and emotional balance. Participants will experience restorative yoga stretches that calm the nervous system\, vibrational sound healing with crystal bowls\, chimes\, and drums to deepen focus and serenity\, and simple breathwork and mindfulness exercises to cultivate presence and inner peace. No prior yoga experience is required. Bring a yoga mat and props such as blankets or pillows to support comfort and alignment\, ensuring you can fully rest and receive the benefits of the practice. Please dress comfortably and come with an open mind. \nNote: The same program will be offered in the Morning Session and Afternoon Session as part of this Weekday Workshop event. When registering\, be sure to select/indicate your preferred time slot. This registration page is for the Afternoon Session. \nExplore our website for other morning and afternoon workshops offered on this same date.\nTeara Booker\, MPH\, CD\, E-RYT 300 is a seasoned wellness practitioner and maternal health expert with over 20 years of experience in public and maternal health. She holds degrees in health\, dispute resolution\, and behavioral management and is extensively trained and certified in a variety of movement and restorative practices. Teara has dedicated her career to supporting individuals and communities through education\, empowerment\, and holistic wellness\, blending her deep understanding of health with evidence-based practices and intuitive guidance. A passionate interdisciplinary educator\, Teara is trained in Ashtanga\, Yin\, Vinyasa\, Restorative Yoga\, and Yoga Nidra\, creating workshops that cultivate mindfulness\, healing\, and self-awareness. Her approach integrates movement\, meditation\, and somatic practices to help participants connect with their bodies\, release tension\, and nurture overall well-being. Through her workshops\, Teara inspires individuals to embrace balance\, cultivate resilience\, and harness their inner strength for lasting wellness.
URL:https://bonsecoursrcc.org/event/afternoon-yoga-workshop-2/
LOCATION:MD
CATEGORIES:Daytime,Just Added
ATTACH;FMTTYPE=image/png:https://bonsecoursrcc.org/wp-content/uploads/sites/11/2025/03/7.png
END:VEVENT
BEGIN:VEVENT
DTSTART;TZID=America/New_York:20260428T190000
DTEND;TZID=America/New_York:20260428T200000
DTSTAMP:20260425T132205
CREATED:20251205T191443Z
LAST-MODIFIED:20251205T191443Z
UID:12109-1777402800-1777406400@bonsecoursrcc.org
SUMMARY:In-Person\, Evening Centering Prayer Session
DESCRIPTION:Held IN PERSON on the \n\n2nd and 5th Tuesdays of the month\, 1-2pm and\n4th Tuesday of the month\, 7-8pm.\n\nFor these in-person sessions\, registration is required and preferred in advance. \n(Virtual Zoom sessions will be the 1st and 3rd Tuesdays of the month from 1-2pm. Register for Virtual Sessions by emailing facilitator Amy Sorensen Kulesa at kulesa.neshama@gmail.com.) \nCentering Prayer is a form of Christian contemplative prayer\, in which one abides in the Presence of God in interior silence. Centering Prayer emphasizes the indwelling Presence of the Holy Trinity within and among us\, and our openness\, through receptive silence and restful surrender\, to God’s action and healing grace. For our one-hour sessions\, we will gather to pray together in silence\, attentive to the stillness within\, and reflect together on readings related to our prayer life. The sessions are relaxed and informal. You are invited to dress comfortably and use a meditation cushion\, if you would like. \nFacilitation for each Centering Prayer session will be led by an experienced member of the group\, both staff and from the community. We follow a consistent format from week to week\, with variability each session in the reflective reading that is shared. Coordinated by Amy Sorensen Kulesa.
URL:https://bonsecoursrcc.org/event/in-person-evening-centering-prayer-session-28/
LOCATION:MD
CATEGORIES:Just Added,Silent
ATTACH;FMTTYPE=image/jpeg:https://bonsecoursrcc.org/wp-content/uploads/sites/11/2021/04/hands-1926414_640-e1657224031120.jpg
END:VEVENT
END:VCALENDAR