BEGIN:VCALENDAR
VERSION:2.0
PRODID:-//Bon Secours Retreat &amp; Conference Center - ECPv6.15.11//NONSGML v1.0//EN
CALSCALE:GREGORIAN
METHOD:PUBLISH
X-ORIGINAL-URL:https://bonsecoursrcc.org
X-WR-CALDESC:Events for Bon Secours Retreat &amp; Conference Center
REFRESH-INTERVAL;VALUE=DURATION:PT1H
X-Robots-Tag:noindex
X-PUBLISHED-TTL:PT1H
BEGIN:VTIMEZONE
TZID:America/New_York
BEGIN:DAYLIGHT
TZOFFSETFROM:-0500
TZOFFSETTO:-0400
TZNAME:EDT
DTSTART:20250309T070000
END:DAYLIGHT
BEGIN:STANDARD
TZOFFSETFROM:-0400
TZOFFSETTO:-0500
TZNAME:EST
DTSTART:20251102T060000
END:STANDARD
BEGIN:DAYLIGHT
TZOFFSETFROM:-0500
TZOFFSETTO:-0400
TZNAME:EDT
DTSTART:20260308T070000
END:DAYLIGHT
BEGIN:STANDARD
TZOFFSETFROM:-0400
TZOFFSETTO:-0500
TZNAME:EST
DTSTART:20261101T060000
END:STANDARD
BEGIN:DAYLIGHT
TZOFFSETFROM:-0500
TZOFFSETTO:-0400
TZNAME:EDT
DTSTART:20270314T070000
END:DAYLIGHT
BEGIN:STANDARD
TZOFFSETFROM:-0400
TZOFFSETTO:-0500
TZNAME:EST
DTSTART:20271107T060000
END:STANDARD
END:VTIMEZONE
BEGIN:VEVENT
DTSTART;TZID=America/New_York:20260809T160000
DTEND;TZID=America/New_York:20260815T113000
DTSTAMP:20260422T120220
CREATED:20250811T134547Z
LAST-MODIFIED:20260323T142149Z
UID:11571-1786291200-1786793400@bonsecoursrcc.org
SUMMARY:Silent Directed Retreat - August 2026
DESCRIPTION:An individually directed retreat focuses on the way God is active in the individual’s life\, and each retreat follows a uniquely personal path. Retreatants meet with a spiritual director once a day to reflect on God’s presence and movement in their life as revealed in prayer\, the events and relationships in their life\, and the response to God that is being made. The spiritual director may make suggestions (prayer forms\, Scripture\, reading materials\, etc.) to support and deepen the retreatant’s awareness of and response to God. Aside from the introductory session and daily spiritual direction meetings\, retreatants are on their own to experience a week of quiet\, peace\, and personal reflection in the Retreat Center and around our beautiful grounds. Mass will be available throughout the week. \nThis is a silent retreat. Check-in begins at 4pm\, and the retreat will begin with an orientation session at 5pm. Silence will begin after dinner. The retreat ends before lunch on Saturday. \nPlease indicate your preference for a spiritual director in the “Special Needs” part of the online registration form. \nSr. Ann Belmonte is a Dominican Sister of Hope and former elementary school teacher who has ministered for the past 33 years as a Pastoral Associate in West Virginia and Virginia. She now uses her gifts as a spiritual director and a leader of Days of Reflection and study. She has a bachelor’s degree in Elementary and Special Education from Mount St. Mary’s College\, a master’s degree in Elementary and Early Childhood Education from Hunter College\, and a master’s degree in Pastoral Studies from Loyola University. Her ongoing formation includes workshops in spirituality\, sacred scripture\, hospice care\, caregiving\, and issues of justice and peace. \nFr. Patrick Bergquist\, M.Div. spent nearly 20 years as a missionary along the Yukon River in Northern Alaska. Now he explores a wilderness far less chartered — that of the human spirit and soul. A diocesan priest of Fairbanks\, he holds a Master of Divinity degree from St. Mary’s Seminary & University in Baltimore and Certificates in Spiritual Direction from the Heychia School in Tucson\, Arizona and the Institute of Pastoral Studies at Loyola University in Chicago\, where he specialized in the Spiritual Exercises of St. Ignatius. Additionally\, he earned a Master of Fine Arts in Creative Writing and Literary Arts from the University of Alaska Anchorage. He’s a poet\, a spiritual memoirist\, and the author of The Long Dark Winter’s Night: Reflections of a Priest in a Time of Pain and Privilege\, as well as various articles in publications such as Spiritual Life and American Magazine. \nJoanne Cahoon\, D.Min. holds a bachelor’s degree in Religious Studies\, master’s degree in Religion/Pastoral Ministry\, graduate certificates in spiritual direction and in spirituality studies\, and a Doctor of Ministry degree from the Catholic Theological Union in Chicago\, where her specialization was spirituality and practical theology. Along the way\, Joanne has taught in elementary\, secondary\, undergraduate\, and graduate school settings. She has also served as youth minister\, high school campus minister\, consultant\, writer\, national trainer\, diocesan staff member\, staff member of a graduate school\, spiritual director\, facilitator of retreats\, and professional coach. Joanne has welcomed and worked with many individuals and groups\, serving them as they listen for God’s invitations in their personal and corporate lives. She finds it a privilege to be involved in spiritual and human formation — bringing deep listening\, presence\, creativity\, and a commitment to her own ongoing formation to her work. \nAmy Sorensen Kulesa\, M.Div.\, MSW is a spiritual director\, retreat leader and certified Introspective Breathwork™ facilitator. She earned a Master of Divinity from Princeton Theological Seminary and a Master of Social Work from Rutgers University. She is a graduate of Epiphany Academy of Formative Spirituality\, Bon Secours Spiritual Direction Institute\, and One Breath Institute. Immersed in both the Bon Secours and Franciscan charisms\, Amy enjoys facilitating retreats in which participants have the opportunity to discern the narrative of their own lives within the larger story of God’s abundant healing\, grace\, and mercy. \nSr. Mary Elizabeth Looby\, GNSH began her training as a retreat and spiritual director at Bon Secours Spiritual Center in 1983. She later followed up with a master’s degree in Pastoral Care and Counseling\, with an emphasis in Spiritual Care from Neuman University in Aston\, PA. She currently lives in Philadelphia and is involved in spiritual direction and retreat ministry. She has directed retreats in Rhode Island\, Connecticut\, New Jersey\, New York\, Texas and Pennsylvania. Her background includes education\, educational administration\, and congregation work in the areas of formation ministry\, associates\, spiritual animation\, and congregational leadership. 
URL:https://bonsecoursrcc.org/event/silent-directed-retreat-august-2026/
LOCATION:MD
CATEGORIES:Just Added,Overnight,Silent
ATTACH;FMTTYPE=image/jpeg:https://bonsecoursrcc.org/wp-content/uploads/sites/11/2023/08/tim-cooper-RmLSBjS5diE-unsplash-scaled-e1692728128962.jpg
END:VEVENT
END:VCALENDAR